BEGIN:VCALENDAR
VERSION:2.0
PRODID:-//Literally Peace - ECPv6.15.20//NONSGML v1.0//EN
CALSCALE:GREGORIAN
METHOD:PUBLISH
X-WR-CALNAME:Literally Peace
X-ORIGINAL-URL:https://www.literallypeace.com
X-WR-CALDESC:Veranstaltungen für Literally Peace
REFRESH-INTERVAL;VALUE=DURATION:PT1H
X-Robots-Tag:noindex
X-PUBLISHED-TTL:PT1H
BEGIN:VTIMEZONE
TZID:Europe/Berlin
BEGIN:DAYLIGHT
TZOFFSETFROM:+0100
TZOFFSETTO:+0200
TZNAME:CEST
DTSTART:20250330T010000
END:DAYLIGHT
BEGIN:STANDARD
TZOFFSETFROM:+0200
TZOFFSETTO:+0100
TZNAME:CET
DTSTART:20251026T010000
END:STANDARD
BEGIN:DAYLIGHT
TZOFFSETFROM:+0100
TZOFFSETTO:+0200
TZNAME:CEST
DTSTART:20260329T010000
END:DAYLIGHT
BEGIN:STANDARD
TZOFFSETFROM:+0200
TZOFFSETTO:+0100
TZNAME:CET
DTSTART:20261025T010000
END:STANDARD
BEGIN:DAYLIGHT
TZOFFSETFROM:+0100
TZOFFSETTO:+0200
TZNAME:CEST
DTSTART:20270328T010000
END:DAYLIGHT
BEGIN:STANDARD
TZOFFSETFROM:+0200
TZOFFSETTO:+0100
TZNAME:CET
DTSTART:20271031T010000
END:STANDARD
END:VTIMEZONE
BEGIN:VEVENT
DTSTART;TZID=Europe/Berlin:20260421T180000
DTEND;TZID=Europe/Berlin:20260421T200000
DTSTAMP:20260420T084047
CREATED:20260309T221234Z
LAST-MODIFIED:20260309T221234Z
UID:6376-1776794400-1776801600@www.literallypeace.com
SUMMARY:Schreibwerkstatt Stuttgart
DESCRIPTION:Unsere Schreibwerkstatt ist ein Raum ist für migrantische Menschen und Menschen mit Fluchtgeschichte\, die mit Worten etwas ausprobieren möchten. Für alle\, die mehr als eine Kultur in sich tragen\, mehr als eine Sprache\, oder mehr als einen Herkunftsort.\nOb Gedicht\, Text\, Erinnerung\, Wut\, leise Gedanken oder laute Geschichten:\nHier darf deine Stimme Platz haben.\nWir hören einander zu\, lachen und weinen\, teilen Essen und Sprachen\, schreiben gegen die Einsamkeit und für die Sichtbarkeit migrantischer Literatur.\nEgal\, ob du gerade erst anfängst oder schon lange schreibst: Du bist willkommen.\nDie Werkstatt findet auf Deutsch statt\, aber du kannst in jeder Sprache schreiben\, die sich für dich richtig anfühlt. Wenn du möchtest\, übersetzen wir gemeinsam.\nBei Interesse melde dich gern via DM oder über info@literallypeace.com. Die Location schicken wir auf Anfrage.
URL:https://www.literallypeace.com/event/schreibwerkstatt-stuttgart-2/
CATEGORIES:Deutsch,Schreibtreff,Vor Ort
END:VEVENT
BEGIN:VEVENT
DTSTART;TZID=Europe/Berlin:20260508T130000
DTEND;TZID=Europe/Berlin:20260508T170000
DTSTAMP:20260420T084047
CREATED:20260319T134505Z
LAST-MODIFIED:20260319T135126Z
UID:6391-1778245200-1778259600@www.literallypeace.com
SUMMARY:MUTationen - Fanfiction als kreativer Raum (Workshopreihe)
DESCRIPTION:MUTationen – Fanfiction als kreativer Raum! \nIn unserem neuen Projekt schreiben Jugendliche mit Zuwanderungs- oder Fluchterfahrung ihre eigenen Geschichten – ausgehend von Figuren und Welten\, die sie lieben: aus Büchern\, Serien\, Filmen oder Games. \nFanfiction ist dabei unser Zugang. Bekannte Geschichten werden weitergedacht\, verändert oder neu kombiniert – neue Perspektiven entstehen. \nUnd weil Kreativität mehr ist als nur Text\, arbeiten wir auch mit Collagen\, Comics\, kleinen Filmszenen oder Theater-Elementen. So kann jede*r einen eigenen Ausdruck finden. \nDas Projekt läuft in vier Schritten: \n\nLieblingsgeschichten sammeln\nKreative Workshops mit Schreib- und Theatermethoden\nEigene Fanfiction entwickeln\nErgebnisse öffentlich präsentieren\n\n\nFür junge Menschen 15–21 Jahren mit Zuwanderungs- oder Fluchterfahrung\n08.\, 15.\, 22.\, & 29. Mai 2026\n\n In Kooperation mit dem Deutsch-Türkischen Forum\, im Rahmen des Kinder- und Jugendliteratursommers 2026 . \nWenn ihr Lust habt mitzumachen oder jemanden kennt\, für den das passt: schreibt uns eine Mail an info@literallypeace.com
URL:https://www.literallypeace.com/event/mutationen-fanfiction-als-kreativer-raum-workshopreihe/
CATEGORIES:Arabisch,Deutsch,Englisch,Vor Ort
END:VEVENT
BEGIN:VEVENT
DTSTART;TZID=Europe/Berlin:20260515T130000
DTEND;TZID=Europe/Berlin:20260515T170000
DTSTAMP:20260420T084047
CREATED:20260319T134738Z
LAST-MODIFIED:20260319T134738Z
UID:6394-1778850000-1778864400@www.literallypeace.com
SUMMARY:MUTationen – Fanfiction als kreativer Raum (Workshopreihe)
DESCRIPTION:MUTationen – Fanfiction als kreativer Raum! \nIn unserem neuen Projekt schreiben Jugendliche mit Zuwanderungs- oder Fluchterfahrung ihre eigenen Geschichten – ausgehend von Figuren und Welten\, die sie lieben: aus Büchern\, Serien\, Filmen oder Games. \nFanfiction ist dabei unser Zugang. Bekannte Geschichten werden weitergedacht\, verändert oder neu kombiniert – neue Perspektiven entstehen. \nUnd weil Kreativität mehr ist als nur Text\, arbeiten wir auch mit Collagen\, Comics\, kleinen Filmszenen oder Theater-Elementen. So kann jede*r einen eigenen Ausdruck finden. \nDas Projekt läuft in vier Schritten: \n\nLieblingsgeschichten sammeln\nKreative Workshops mit Schreib- und Theatermethoden\nEigene Fanfiction entwickeln\nErgebnisse öffentlich präsentieren\n\n\nFür junge Menschen 15–21 Jahren mit Zuwanderungs- oder Fluchterfahrung\n08.\, 15.\, 22.\, & 29. Mai 2026\n\n In Kooperation mit dem Deutsch-Türkischen Forum\, im Rahmen des Kinder- und Jugendliteratursommers 2026 . \nWenn ihr Lust habt mitzumachen oder jemanden kennt\, für den das passt: schreibt uns eine Mail an info@literallypeace.com
URL:https://www.literallypeace.com/event/mutationen-fanfiction-als-kreativer-raum-workshopreihe-2/
CATEGORIES:Arabisch,Deutsch,Englisch,Vor Ort
END:VEVENT
BEGIN:VEVENT
DTSTART;TZID=Europe/Berlin:20260519T180000
DTEND;TZID=Europe/Berlin:20260519T200000
DTSTAMP:20260420T084047
CREATED:20260309T221310Z
LAST-MODIFIED:20260309T221519Z
UID:6378-1779213600-1779220800@www.literallypeace.com
SUMMARY:Schreibwerkstatt Stuttgart
DESCRIPTION:Unsere Schreibwerkstatt ist ein Raum ist für migrantische Menschen und Menschen mit Fluchtgeschichte\, die mit Worten etwas ausprobieren möchten. Für alle\, die mehr als eine Kultur in sich tragen\, mehr als eine Sprache\, oder mehr als einen Herkunftsort.\nOb Gedicht\, Text\, Erinnerung\, Wut\, leise Gedanken oder laute Geschichten:\nHier darf deine Stimme Platz haben.\nWir hören einander zu\, lachen und weinen\, teilen Essen und Sprachen\, schreiben gegen die Einsamkeit und für die Sichtbarkeit migrantischer Literatur.\nEgal\, ob du gerade erst anfängst oder schon lange schreibst: Du bist willkommen.\nDie Werkstatt findet auf Deutsch statt\, aber du kannst in jeder Sprache schreiben\, die sich für dich richtig anfühlt. Wenn du möchtest\, übersetzen wir gemeinsam.\nBei Interesse melde dich gern via DM oder über info@literallypeace.com. Die Location schicken wir auf Anfrage.
URL:https://www.literallypeace.com/event/schreibtreff-stuttgart-6/
CATEGORIES:Deutsch,Schreibtreff,Vor Ort
END:VEVENT
BEGIN:VEVENT
DTSTART;TZID=Europe/Berlin:20260522T130000
DTEND;TZID=Europe/Berlin:20260522T170000
DTSTAMP:20260420T084047
CREATED:20260319T134832Z
LAST-MODIFIED:20260319T134832Z
UID:6396-1779454800-1779469200@www.literallypeace.com
SUMMARY:MUTationen – Fanfiction als kreativer Raum (Workshopreihe)
DESCRIPTION:MUTationen – Fanfiction als kreativer Raum! \nIn unserem neuen Projekt schreiben Jugendliche mit Zuwanderungs- oder Fluchterfahrung ihre eigenen Geschichten – ausgehend von Figuren und Welten\, die sie lieben: aus Büchern\, Serien\, Filmen oder Games. \nFanfiction ist dabei unser Zugang. Bekannte Geschichten werden weitergedacht\, verändert oder neu kombiniert – neue Perspektiven entstehen. \nUnd weil Kreativität mehr ist als nur Text\, arbeiten wir auch mit Collagen\, Comics\, kleinen Filmszenen oder Theater-Elementen. So kann jede*r einen eigenen Ausdruck finden. \nDas Projekt läuft in vier Schritten: \n\nLieblingsgeschichten sammeln\nKreative Workshops mit Schreib- und Theatermethoden\nEigene Fanfiction entwickeln\nErgebnisse öffentlich präsentieren\n\n\nFür junge Menschen 15–21 Jahren mit Zuwanderungs- oder Fluchterfahrung\n08.\, 15.\, 22.\, & 29. Mai 2026\n\nIn Kooperation mit dem Deutsch-Türkischen Forum\, im Rahmen des Kinder- und Jugendliteratursommers 2026 . \nWenn ihr Lust habt mitzumachen oder jemanden kennt\, für den das passt: schreibt uns eine Mail an info@literallypeace.com
URL:https://www.literallypeace.com/event/mutationen-fanfiction-als-kreativer-raum-workshopreihe-3/
END:VEVENT
BEGIN:VEVENT
DTSTART;TZID=Europe/Berlin:20260529T130000
DTEND;TZID=Europe/Berlin:20260529T170000
DTSTAMP:20260420T084047
CREATED:20260319T135031Z
LAST-MODIFIED:20260319T135031Z
UID:6398-1780059600-1780074000@www.literallypeace.com
SUMMARY:MUTationen – Fanfiction als kreativer Raum (Workshopreihe)
DESCRIPTION:MUTationen – Fanfiction als kreativer Raum! \nIn unserem neuen Projekt schreiben Jugendliche mit Zuwanderungs- oder Fluchterfahrung ihre eigenen Geschichten – ausgehend von Figuren und Welten\, die sie lieben: aus Büchern\, Serien\, Filmen oder Games. \nFanfiction ist dabei unser Zugang. Bekannte Geschichten werden weitergedacht\, verändert oder neu kombiniert – neue Perspektiven entstehen. \nUnd weil Kreativität mehr ist als nur Text\, arbeiten wir auch mit Collagen\, Comics\, kleinen Filmszenen oder Theater-Elementen. So kann jede*r einen eigenen Ausdruck finden. \nDas Projekt läuft in vier Schritten: \n\nLieblingsgeschichten sammeln\nKreative Workshops mit Schreib- und Theatermethoden\nEigene Fanfiction entwickeln\nErgebnisse öffentlich präsentieren\n\n\nFür junge Menschen 15–21 Jahren mit Zuwanderungs- oder Fluchterfahrung\n08.\, 15.\, 22.\, & 29. Mai 2026\n\nIn Kooperation mit dem Deutsch-Türkischen Forum\, im Rahmen des Kinder- und Jugendliteratursommers 2026 . \nWenn ihr Lust habt mitzumachen oder jemanden kennt\, für den das passt: schreibt uns eine Mail an info@literallypeace.com
URL:https://www.literallypeace.com/event/mutationen-fanfiction-als-kreativer-raum-workshopreihe-4/
CATEGORIES:Arabisch,Deutsch,Englisch,Vor Ort
END:VEVENT
BEGIN:VEVENT
DTSTART;TZID=Europe/Berlin:20260630T180000
DTEND;TZID=Europe/Berlin:20260630T200000
DTSTAMP:20260420T084047
CREATED:20260309T221357Z
LAST-MODIFIED:20260309T221511Z
UID:6380-1782842400-1782849600@www.literallypeace.com
SUMMARY:Schreibwerkstatt Stuttgart
DESCRIPTION:Unsere Schreibwerkstatt ist ein Raum ist für migrantische Menschen und Menschen mit Fluchtgeschichte\, die mit Worten etwas ausprobieren möchten. Für alle\, die mehr als eine Kultur in sich tragen\, mehr als eine Sprache\, oder mehr als einen Herkunftsort.\nOb Gedicht\, Text\, Erinnerung\, Wut\, leise Gedanken oder laute Geschichten:\nHier darf deine Stimme Platz haben.\nWir hören einander zu\, lachen und weinen\, teilen Essen und Sprachen\, schreiben gegen die Einsamkeit und für die Sichtbarkeit migrantischer Literatur.\nEgal\, ob du gerade erst anfängst oder schon lange schreibst: Du bist willkommen.\nDie Werkstatt findet auf Deutsch statt\, aber du kannst in jeder Sprache schreiben\, die sich für dich richtig anfühlt. Wenn du möchtest\, übersetzen wir gemeinsam.\nBei Interesse melde dich gern via DM oder über info@literallypeace.com. Die Location schicken wir auf Anfrage.
URL:https://www.literallypeace.com/event/schreibtreff-stuttgart-7/
CATEGORIES:Deutsch,Schreibtreff,Vor Ort
END:VEVENT
BEGIN:VEVENT
DTSTART;TZID=Europe/Berlin:20260721T180000
DTEND;TZID=Europe/Berlin:20260721T200000
DTSTAMP:20260420T084047
CREATED:20260309T221429Z
LAST-MODIFIED:20260309T221501Z
UID:6382-1784656800-1784664000@www.literallypeace.com
SUMMARY:Schreibwerkstatt Stuttgart
DESCRIPTION:Unsere Schreibwerkstatt ist ein Raum ist für migrantische Menschen und Menschen mit Fluchtgeschichte\, die mit Worten etwas ausprobieren möchten. Für alle\, die mehr als eine Kultur in sich tragen\, mehr als eine Sprache\, oder mehr als einen Herkunftsort.\nOb Gedicht\, Text\, Erinnerung\, Wut\, leise Gedanken oder laute Geschichten:\nHier darf deine Stimme Platz haben.\nWir hören einander zu\, lachen und weinen\, teilen Essen und Sprachen\, schreiben gegen die Einsamkeit und für die Sichtbarkeit migrantischer Literatur.\nEgal\, ob du gerade erst anfängst oder schon lange schreibst: Du bist willkommen.\nDie Werkstatt findet auf Deutsch statt\, aber du kannst in jeder Sprache schreiben\, die sich für dich richtig anfühlt. Wenn du möchtest\, übersetzen wir gemeinsam.\nBei Interesse melde dich gern via DM oder über info@literallypeace.com. Die Location schicken wir auf Anfrage.
URL:https://www.literallypeace.com/event/schreibtreff-stuttgart-8/
CATEGORIES:Deutsch,Schreibtreff,Vor Ort
END:VEVENT
END:VCALENDAR